BEGIN:VCALENDAR
VERSION:2.0
PRODID:-//Department of Crop and Soil Sciences - ECPv5.9.0//NONSGML v1.0//EN
CALSCALE:GREGORIAN
METHOD:PUBLISH
X-WR-CALNAME:Department of Crop and Soil Sciences
X-ORIGINAL-URL:https://css.wsu.edu
X-WR-CALDESC:Events for Department of Crop and Soil Sciences
BEGIN:VTIMEZONE
TZID:America/Los_Angeles
BEGIN:DAYLIGHT
TZOFFSETFROM:-0800
TZOFFSETTO:-0700
TZNAME:PDT
DTSTART:20230312T100000
END:DAYLIGHT
BEGIN:STANDARD
TZOFFSETFROM:-0700
TZOFFSETTO:-0800
TZNAME:PST
DTSTART:20231105T090000
END:STANDARD
BEGIN:DAYLIGHT
TZOFFSETFROM:-0800
TZOFFSETTO:-0700
TZNAME:PDT
DTSTART:20240310T100000
END:DAYLIGHT
BEGIN:STANDARD
TZOFFSETFROM:-0700
TZOFFSETTO:-0800
TZNAME:PST
DTSTART:20241103T090000
END:STANDARD
BEGIN:DAYLIGHT
TZOFFSETFROM:-0800
TZOFFSETTO:-0700
TZNAME:PDT
DTSTART:20250309T100000
END:DAYLIGHT
BEGIN:STANDARD
TZOFFSETFROM:-0700
TZOFFSETTO:-0800
TZNAME:PST
DTSTART:20251102T090000
END:STANDARD
BEGIN:DAYLIGHT
TZOFFSETFROM:-0800
TZOFFSETTO:-0700
TZNAME:PDT
DTSTART:20260308T100000
END:DAYLIGHT
BEGIN:STANDARD
TZOFFSETFROM:-0700
TZOFFSETTO:-0800
TZNAME:PST
DTSTART:20261101T090000
END:STANDARD
END:VTIMEZONE
BEGIN:VEVENT
DTSTART;TZID=America/Los_Angeles:20230411T090000
DTEND;TZID=America/Los_Angeles:20230411T100000
DTSTAMP:20260421T031744
CREATED:20230406T142401Z
LAST-MODIFIED:20230406T142401Z
UID:2292-1681203600-1681207200@css.wsu.edu
SUMMARY:Final Examination - Harmony Varner
DESCRIPTION:“Irrigation Scheduling for High-Value Annual Specialty Crops in the Face of Climate Change: Two Research Approaches” \nLocation: NWREC Art B 115 and via Zoom
URL:https://css.wsu.edu/event/final-examination-harmony-varner/
LOCATION:NWREC Art B 115\, 16650 State Route 536\, Mt. Vernon\, WA\, 98273\, United States
END:VEVENT
BEGIN:VEVENT
DTSTART;TZID=America/Los_Angeles:20231204T120000
DTEND;TZID=America/Los_Angeles:20231204T123000
DTSTAMP:20260421T031744
CREATED:20231127T175420Z
LAST-MODIFIED:20231127T175520Z
UID:2950-1701691200-1701693000@css.wsu.edu
SUMMARY:Proposal Defense Seminar - Madeline Desjardins
DESCRIPTION:“Evaluating the Short- and Long-Term Effects of Biosolids on Soil Functions\, Carbon Sequestration\, and System Diversification in Semi-Arid Dryland Cropping Systems”12:00-12:30 p.m.\, NWREC ArtB 115 and via Zoom
URL:https://css.wsu.edu/event/proposal-defense-seminar-madeline-desjardins/
LOCATION:NWREC Art B 115\, 16650 State Route 536\, Mt. Vernon\, WA\, 98273\, United States
END:VEVENT
BEGIN:VEVENT
DTSTART;TZID=America/Los_Angeles:20231215T130000
DTEND;TZID=America/Los_Angeles:20231215T133000
DTSTAMP:20260421T031744
CREATED:20231204T171102Z
LAST-MODIFIED:20231204T171102Z
UID:2958-1702645200-1702647000@css.wsu.edu
SUMMARY:Proposal Defense Seminar - Evan Domsic
DESCRIPTION:“Unlocking Quinoa’s Budding Potential: Overcoming Barriers to its Adoption as a Commodity Crop in Western Washington and Beyond”1:00 p.m.\, NWREC ArtB 115 and via Zoom
URL:https://css.wsu.edu/event/proposal-defense-seminar-evan-domsic/
LOCATION:NWREC Art B 115\, 16650 State Route 536\, Mt. Vernon\, WA\, 98273\, United States
END:VEVENT
BEGIN:VEVENT
DTSTART;TZID=America/Los_Angeles:20240301T090000
DTEND;TZID=America/Los_Angeles:20240301T100000
DTSTAMP:20260421T031744
CREATED:20240228T224453Z
LAST-MODIFIED:20240228T224453Z
UID:3122-1709283600-1709287200@css.wsu.edu
SUMMARY:Preliminary Examination - Madeline Desjardins
DESCRIPTION:
URL:https://css.wsu.edu/event/preliminary-examination-madeline-desjardins/
LOCATION:NWREC Art B 115\, 16650 State Route 536\, Mt. Vernon\, WA\, 98273\, United States
END:VEVENT
BEGIN:VEVENT
DTSTART;TZID=America/Los_Angeles:20240424T130000
DTEND;TZID=America/Los_Angeles:20240424T140000
DTSTAMP:20260421T031744
CREATED:20240424T145100Z
LAST-MODIFIED:20240424T145100Z
UID:3243-1713963600-1713967200@css.wsu.edu
SUMMARY:Preliminary Examination - Evan Domsic
DESCRIPTION:1:00 p.m.\, NWREC\, ArtB 115 and via Zoom
URL:https://css.wsu.edu/event/preliminary-examination-evan-domsic/
LOCATION:NWREC Art B 115\, 16650 State Route 536\, Mt. Vernon\, WA\, 98273\, United States
END:VEVENT
BEGIN:VEVENT
DTSTART;TZID=America/Los_Angeles:20250611T090000
DTEND;TZID=America/Los_Angeles:20250611T100000
DTSTAMP:20260421T031744
CREATED:20250606T142451Z
LAST-MODIFIED:20250606T142451Z
UID:3932-1749632400-1749636000@css.wsu.edu
SUMMARY:Ph.D. Proposal Defense - Nayab Gull
DESCRIPTION:“Impacts of Soil-Biodegradable Plastic Mulches on Soil Health and Horticultural Outcomes in Diverse Climate Conditions“9:00 a.m.\, NWREC Mt. Vernon\, WA\, ArtB 115 and via Zoom
URL:https://css.wsu.edu/event/ph-d-proposal-defense-nayab-gull/
LOCATION:NWREC Art B 115\, 16650 State Route 536\, Mt. Vernon\, WA\, 98273\, United States
END:VEVENT
BEGIN:VEVENT
DTSTART;TZID=America/Los_Angeles:20250711T100000
DTEND;TZID=America/Los_Angeles:20250711T110000
DTSTAMP:20260421T031744
CREATED:20250709T143550Z
LAST-MODIFIED:20250709T143550Z
UID:3965-1752228000-1752231600@css.wsu.edu
SUMMARY:Research Proposal Seminar - Paul Martinez
DESCRIPTION:“Managing Soils and Micronutrients for Soil Physical Health and Crop Nutritional Quality“
URL:https://css.wsu.edu/event/research-proposal-seminar-paul-martinez/
LOCATION:NWREC Art B 115\, 16650 State Route 536\, Mt. Vernon\, WA\, 98273\, United States
END:VEVENT
BEGIN:VEVENT
DTSTART;TZID=America/Los_Angeles:20250717T110000
DTEND;TZID=America/Los_Angeles:20250717T120000
DTSTAMP:20260421T031744
CREATED:20250703T142254Z
LAST-MODIFIED:20250703T142254Z
UID:3957-1752750000-1752753600@css.wsu.edu
SUMMARY:Final Examination - Sahil Thapa
DESCRIPTION:“Combating Onion Bacterial Diseases through Nitrogen and Irrigation Management”11:00 a.m.\, NWREC ArtB and via Zoom
URL:https://css.wsu.edu/event/final-examination-sahil-thapa/
LOCATION:NWREC Art B 115\, 16650 State Route 536\, Mt. Vernon\, WA\, 98273\, United States
END:VEVENT
BEGIN:VEVENT
DTSTART;TZID=America/Los_Angeles:20250812T130000
DTEND;TZID=America/Los_Angeles:20250812T140000
DTSTAMP:20260421T031744
CREATED:20250811T160543Z
LAST-MODIFIED:20250811T160543Z
UID:4015-1755003600-1755007200@css.wsu.edu
SUMMARY:Final Examination - Madeline Desjardins
DESCRIPTION:“Biosolids as a Soil Amendment: Implications for Soil\, Health\, Carbon Sequestration\, and Sustainable Crop Productivity”1:00 p.m.\, NWREC ArtB 115 and via Zoom
URL:https://css.wsu.edu/event/final-examination-madeline-desjardins/
LOCATION:NWREC Art B 115\, 16650 State Route 536\, Mt. Vernon\, WA\, 98273\, United States
END:VEVENT
BEGIN:VEVENT
DTSTART;TZID=America/Los_Angeles:20260105T130000
DTEND;TZID=America/Los_Angeles:20260105T140000
DTSTAMP:20260421T031744
CREATED:20251219T193745Z
LAST-MODIFIED:20251219T193745Z
UID:4165-1767618000-1767621600@css.wsu.edu
SUMMARY:Exit Seminar and Final Examination - Evan Domsic
DESCRIPTION:“Unlocking Quinoa’s Budding Potential: Overcoming Barriers to its Adoption as a Rotational Crop in Western Washington and Beyond”
URL:https://css.wsu.edu/event/exit-seminar-and-final-examination-evan-domsic/
LOCATION:NWREC Art B 115\, 16650 State Route 536\, Mt. Vernon\, WA\, 98273\, United States
END:VEVENT
END:VCALENDAR