BEGIN:VCALENDAR
VERSION:2.0
PRODID:-//Department of Crop and Soil Sciences - ECPv5.9.0//NONSGML v1.0//EN
CALSCALE:GREGORIAN
METHOD:PUBLISH
X-WR-CALNAME:Department of Crop and Soil Sciences
X-ORIGINAL-URL:https://css.wsu.edu
X-WR-CALDESC:Events for Department of Crop and Soil Sciences
BEGIN:VTIMEZONE
TZID:America/Los_Angeles
BEGIN:DAYLIGHT
TZOFFSETFROM:-0800
TZOFFSETTO:-0700
TZNAME:PDT
DTSTART:20220313T100000
END:DAYLIGHT
BEGIN:STANDARD
TZOFFSETFROM:-0700
TZOFFSETTO:-0800
TZNAME:PST
DTSTART:20221106T090000
END:STANDARD
BEGIN:DAYLIGHT
TZOFFSETFROM:-0800
TZOFFSETTO:-0700
TZNAME:PDT
DTSTART:20230312T100000
END:DAYLIGHT
BEGIN:STANDARD
TZOFFSETFROM:-0700
TZOFFSETTO:-0800
TZNAME:PST
DTSTART:20231105T090000
END:STANDARD
BEGIN:DAYLIGHT
TZOFFSETFROM:-0800
TZOFFSETTO:-0700
TZNAME:PDT
DTSTART:20240310T100000
END:DAYLIGHT
BEGIN:STANDARD
TZOFFSETFROM:-0700
TZOFFSETTO:-0800
TZNAME:PST
DTSTART:20241103T090000
END:STANDARD
END:VTIMEZONE
BEGIN:VEVENT
DTSTART;TZID=America/Los_Angeles:20221117T100000
DTEND;TZID=America/Los_Angeles:20221117T120000
DTSTAMP:20260425T132326
CREATED:20221114T154238Z
LAST-MODIFIED:20221114T154238Z
UID:1307-1668679200-1668686400@css.wsu.edu
SUMMARY:Matthew Brooke - Proposal Seminar
DESCRIPTION:“Improving Malt Quality and Stem Rust Resistance in the Washington State University Barley Breeding Program”
URL:https://css.wsu.edu/event/matthew-brooke-proposal-seminar/
LOCATION:Hulbert Hall 409
END:VEVENT
BEGIN:VEVENT
DTSTART;TZID=America/Los_Angeles:20231107T130000
DTEND;TZID=America/Los_Angeles:20231107T140000
DTSTAMP:20260425T132326
CREATED:20231025T170450Z
LAST-MODIFIED:20231025T170450Z
UID:2903-1699362000-1699365600@css.wsu.edu
SUMMARY:Final Examination - Emily Klarquist
DESCRIPTION:“Biofortification Research Methods for Plant Breeding Programs”
URL:https://css.wsu.edu/event/final-examination-emily-klarquist/
LOCATION:Hulbert Hall 409
END:VEVENT
BEGIN:VEVENT
DTSTART;TZID=America/Los_Angeles:20240415T090000
DTEND;TZID=America/Los_Angeles:20240415T100000
DTSTAMP:20260425T132326
CREATED:20240410T185325Z
LAST-MODIFIED:20240410T185325Z
UID:3193-1713171600-1713175200@css.wsu.edu
SUMMARY:Final Examination - Matthew Brooke
DESCRIPTION:“Improving Stem Rust Resistance and Malt Quality in the Washington State University Barley Breeding Program”9:00 a.m.\, Hulbert 409
URL:https://css.wsu.edu/event/final-examination-matthew-brooke/
LOCATION:Hulbert Hall 409
END:VEVENT
BEGIN:VEVENT
DTSTART;TZID=America/Los_Angeles:20240716T110000
DTEND;TZID=America/Los_Angeles:20240716T120000
DTSTAMP:20260425T132326
CREATED:20240708T201848Z
LAST-MODIFIED:20240708T201848Z
UID:3377-1721127600-1721131200@css.wsu.edu
SUMMARY:PhD Exit Seminar - Kaushik Adhikari
DESCRIPTION:“Accumulation and Effects of Micro- and Nanoplastic Particles in Terrestrial Ecosystems”11:10 am – 12:00 pm\, Hulbert 409 and via Zoom
URL:https://css.wsu.edu/event/phd-exit-seminar-kaushik-adhikari/
LOCATION:Hulbert Hall 409
END:VEVENT
END:VCALENDAR