BEGIN:VCALENDAR
VERSION:2.0
PRODID:-//Department of Crop and Soil Sciences - ECPv5.9.0//NONSGML v1.0//EN
CALSCALE:GREGORIAN
METHOD:PUBLISH
X-WR-CALNAME:Department of Crop and Soil Sciences
X-ORIGINAL-URL:https://css.wsu.edu
X-WR-CALDESC:Events for Department of Crop and Soil Sciences
BEGIN:VTIMEZONE
TZID:America/Los_Angeles
BEGIN:DAYLIGHT
TZOFFSETFROM:-0800
TZOFFSETTO:-0700
TZNAME:PDT
DTSTART:20250309T100000
END:DAYLIGHT
BEGIN:STANDARD
TZOFFSETFROM:-0700
TZOFFSETTO:-0800
TZNAME:PST
DTSTART:20251102T090000
END:STANDARD
END:VTIMEZONE
BEGIN:VEVENT
DTSTART;TZID=America/Los_Angeles:20250624T110000
DTEND;TZID=America/Los_Angeles:20250624T130000
DTSTAMP:20260423T152759
CREATED:20250411T201103Z
LAST-MODIFIED:20250411T201103Z
UID:3857-1750762800-1750770000@css.wsu.edu
SUMMARY:Reardan Crop Tour
DESCRIPTION:
URL:https://css.wsu.edu/event/reardan-crop-tour-3/
LOCATION:47°42’02.0″N 117°54’25.5″W
ORGANIZER;CN="Aaron%20Esser":MAILTO:aarons@wsu.edu
END:VEVENT
END:VCALENDAR