BEGIN:VCALENDAR
VERSION:2.0
PRODID:-//Department of Crop and Soil Sciences - ECPv5.9.0//NONSGML v1.0//EN
CALSCALE:GREGORIAN
METHOD:PUBLISH
X-WR-CALNAME:Department of Crop and Soil Sciences
X-ORIGINAL-URL:https://css.wsu.edu
X-WR-CALDESC:Events for Department of Crop and Soil Sciences
BEGIN:VTIMEZONE
TZID:America/Los_Angeles
BEGIN:DAYLIGHT
TZOFFSETFROM:-0800
TZOFFSETTO:-0700
TZNAME:PDT
DTSTART:20240310T100000
END:DAYLIGHT
BEGIN:STANDARD
TZOFFSETFROM:-0700
TZOFFSETTO:-0800
TZNAME:PST
DTSTART:20241103T090000
END:STANDARD
END:VTIMEZONE
BEGIN:VEVENT
DTSTART;TZID=America/Los_Angeles:20240330T120000
DTEND;TZID=America/Los_Angeles:20240330T190000
DTSTAMP:20260424T025105
CREATED:20240321T173018Z
LAST-MODIFIED:20240321T173144Z
UID:3156-1711800000-1711825200@css.wsu.edu
SUMMARY:46th Annual Pah-Loots-Pu Powwow at Beasley Coliseum sponsored by WSU Native Programs
DESCRIPTION:
URL:https://css.wsu.edu/event/46th-annual-pah-loots-puu-powwow/
LOCATION:Beasley Coliseum\, 925 NE North Fairway Rd\, Pullman\, WA
END:VEVENT
END:VCALENDAR