BEGIN:VCALENDAR
VERSION:2.0
PRODID:-//Department of Crop and Soil Sciences - ECPv5.9.0//NONSGML v1.0//EN
CALSCALE:GREGORIAN
METHOD:PUBLISH
X-WR-CALNAME:Department of Crop and Soil Sciences
X-ORIGINAL-URL:https://css.wsu.edu
X-WR-CALDESC:Events for Department of Crop and Soil Sciences
BEGIN:VTIMEZONE
TZID:America/Los_Angeles
BEGIN:DAYLIGHT
TZOFFSETFROM:-0800
TZOFFSETTO:-0700
TZNAME:PDT
DTSTART:20250309T100000
END:DAYLIGHT
BEGIN:STANDARD
TZOFFSETFROM:-0700
TZOFFSETTO:-0800
TZNAME:PST
DTSTART:20251102T090000
END:STANDARD
END:VTIMEZONE
BEGIN:VEVENT
DTSTART;TZID=America/Los_Angeles:20250507T100000
DTEND;TZID=America/Los_Angeles:20250507T110000
DTSTAMP:20260423T082413
CREATED:20250430T202240Z
LAST-MODIFIED:20250430T202240Z
UID:3892-1746612000-1746615600@css.wsu.edu
SUMMARY:Final Examination - Michael Mullins
DESCRIPTION:“Using Local Spectral Libraries to Create Prediction Models for Soil Physical Property Assessment in Washington State”
URL:https://css.wsu.edu/event/final-examination-michael-mullins/
LOCATION:via Zoom
END:VEVENT
BEGIN:VEVENT
DTSTART;TZID=America/Los_Angeles:20250508T090000
DTEND;TZID=America/Los_Angeles:20250508T100000
DTSTAMP:20260423T082413
CREATED:20250424T141255Z
LAST-MODIFIED:20250424T141255Z
UID:3888-1746694800-1746698400@css.wsu.edu
SUMMARY:Final Examination - Aichatou Djibo Waziri
DESCRIPTION:“Genomic-Assisted Breeding for Biofortified Spring Wheat (Triticum aestivum L.)“
URL:https://css.wsu.edu/event/final-examination-aichatou-djibo-waziri-2/
LOCATION:ITB 3050
END:VEVENT
BEGIN:VEVENT
DTSTART;TZID=America/Los_Angeles:20250509T110000
DTEND;TZID=America/Los_Angeles:20250509T120000
DTSTAMP:20260423T082413
CREATED:20250430T211528Z
LAST-MODIFIED:20250430T211528Z
UID:3896-1746788400-1746792000@css.wsu.edu
SUMMARY:Final Examination - Hatem Younes
DESCRIPTION:“Water and Soil Quality Management for Root Health and Management of Verticillium Wilt in Potato”Clark Hall 331 and via Zoom
URL:https://css.wsu.edu/event/final-examination-hatem-younes/
LOCATION:Clark Hall 331
END:VEVENT
BEGIN:VEVENT
DTSTART;TZID=America/Los_Angeles:20250529T080000
DTEND;TZID=America/Los_Angeles:20250529T170000
DTSTAMP:20260423T082413
CREATED:20250411T172305Z
LAST-MODIFIED:20250411T172305Z
UID:3804-1748505600-1748538000@css.wsu.edu
SUMMARY:Western Wheat Workers Meeting Field Tour
DESCRIPTION:
URL:https://css.wsu.edu/event/western-wheat-workers-meeting-field-tour/
LOCATION:46°41’45.5″N 117°08’50.0″W
END:VEVENT
BEGIN:VEVENT
DTSTART;TZID=America/Los_Angeles:20250529T153000
DTEND;TZID=America/Los_Angeles:20250529T173000
DTSTAMP:20260423T082413
CREATED:20250521T183734Z
LAST-MODIFIED:20250521T184711Z
UID:3914-1748532600-1748539800@css.wsu.edu
SUMMARY:USDA Genebank Tour - May 29
DESCRIPTION:Please RSVP to Marilyn the day you would like to attend. marilyn.warburton@usda.gov \nYou’re invited to tour the USDA genebank in Pullman\, WA\, a national treasure where we grow\, conserve\, and share seeds with breeders and researchers across the US and around the world. \nThis genebank contains our national collections of chickpea\, lentil\, peas\, beans\, other legumes\, lettuce\, garlic\, rhubarb\, medicinal and ornamental plants\, safflower\, grasses\, alfalfa\, clover\, other forages\, their wild relatives\, and useful native plants. The genetic diversity conserved in these seeds is what has been used and will continue to be used to create crop varieties adapted to emerging markets and changing growing conditions. \nWe curate and distribute over 100\,000 lines and populations\, and we would be delighted to show you our regeneration fields\, drying and cleaning facilities and equipment\, with optional tours of our seed storage and distribution and greenhouse facilities. Unit staff and scientists will give brief explanations of the facilities and the plants in the fields\, as well as an indication of our impacts on U.S. and global agriculture and food security. \nAll demonstrations are live\, some are hands on and interactive\, and we have seeds\, plants\, and information to give away! Come see behind the seeds of the genebank and take away ideas on how you could participate as well! Photos are very welcome. \nWhen: May 29th\, 3:30 to 5:30pm \nWhere: WSU/ARS Pullman Plant Intro Station\, Terre View Dr. \nWhat to bring/wear: Camera\, hat\, sturdy closed-toed shoes\, water bottle\, cool clothing (but preferably long pants and long sleeves or use sunscreen). \nWho: All recipients of this email and all their friends\, but please RSVP an approximate number in your group. If you are a member of the media\, please let us know in advance who you are and that you are coming. \nOfficial Names and Acronyms: We are the USDA ARS Plant Germplasm Introduction and Testing Research Unit (PGITRU) working at the Western Regional Plant Introduction Station (WRPIS) located at Washington State University (WSU) in Pullman\, WA. #PullmanPlantIntro #SeedGuardians
URL:https://css.wsu.edu/event/usda-genebank-tour-may-29/
LOCATION:WSU/ARS Pullman Plant Intro Station\, 4900 Terre View Dr.\, Pullman\, WA\, United States
ORGANIZER;CN="Marilyn%20Warburton":MAILTO:marilyn.warburton@usda.gov
END:VEVENT
END:VCALENDAR