BEGIN:VCALENDAR
VERSION:2.0
PRODID:-//Department of Crop and Soil Sciences - ECPv5.9.0//NONSGML v1.0//EN
CALSCALE:GREGORIAN
METHOD:PUBLISH
X-WR-CALNAME:Department of Crop and Soil Sciences
X-ORIGINAL-URL:https://css.wsu.edu
X-WR-CALDESC:Events for Department of Crop and Soil Sciences
BEGIN:VTIMEZONE
TZID:America/Los_Angeles
BEGIN:DAYLIGHT
TZOFFSETFROM:-0800
TZOFFSETTO:-0700
TZNAME:PDT
DTSTART:20240310T100000
END:DAYLIGHT
BEGIN:STANDARD
TZOFFSETFROM:-0700
TZOFFSETTO:-0800
TZNAME:PST
DTSTART:20241103T090000
END:STANDARD
END:VTIMEZONE
BEGIN:VEVENT
DTSTART;TZID=America/Los_Angeles:20240603T080000
DTEND;TZID=America/Los_Angeles:20240603T100000
DTSTAMP:20260421T011153
CREATED:20240503T173934Z
LAST-MODIFIED:20240503T173934Z
UID:3253-1717401600-1717408800@css.wsu.edu
SUMMARY:Horse Heaven Crop Tour
DESCRIPTION:
URL:https://css.wsu.edu/event/horse-heaven-crop-tour-2/
LOCATION:Horse Heaven Community Hall\, 37301 County Well Rd\, Prosser\, WA\, United States
ORGANIZER;CN="Clark%20Neely":MAILTO:clark.neely@wsu.edu
END:VEVENT
BEGIN:VEVENT
DTSTART;TZID=America/Los_Angeles:20240603T140000
DTEND;TZID=America/Los_Angeles:20240603T160000
DTSTAMP:20260421T011153
CREATED:20240503T174103Z
LAST-MODIFIED:20240503T174103Z
UID:3256-1717423200-1717430400@css.wsu.edu
SUMMARY:Connell Crop Tour
DESCRIPTION:
URL:https://css.wsu.edu/event/connell-crop-tour-2/
LOCATION:46.601627\, -118.586545
ORGANIZER;CN="Clark%20Neely":MAILTO:clark.neely@wsu.edu
END:VEVENT
BEGIN:VEVENT
DTSTART;TZID=America/Los_Angeles:20240606T150000
DTEND;TZID=America/Los_Angeles:20240606T170000
DTSTAMP:20260421T011153
CREATED:20240503T174336Z
LAST-MODIFIED:20240503T174336Z
UID:3259-1717686000-1717693200@css.wsu.edu
SUMMARY:Adams County Crop Tour
DESCRIPTION:
URL:https://css.wsu.edu/event/adams-county-crop-tour-2/
LOCATION:47.2590062\, -118.4508995
ORGANIZER;CN="Aaron%20Esser":MAILTO:aarons@wsu.edu
END:VEVENT
BEGIN:VEVENT
DTSTART;TZID=America/Los_Angeles:20240610T103000
DTEND;TZID=America/Los_Angeles:20240610T113000
DTSTAMP:20260421T011153
CREATED:20240503T174653Z
LAST-MODIFIED:20240503T174653Z
UID:3262-1718015400-1718019000@css.wsu.edu
SUMMARY:Harrington Crop Tour
DESCRIPTION:
URL:https://css.wsu.edu/event/harrington-crop-tour-2/
LOCATION:47.401006\, -118400656
ORGANIZER;CN="Aaron%20Esser":MAILTO:aarons@wsu.edu
END:VEVENT
BEGIN:VEVENT
DTSTART;TZID=America/Los_Angeles:20240612T090000
DTEND;TZID=America/Los_Angeles:20240612T110000
DTSTAMP:20260421T011153
CREATED:20240503T174918Z
LAST-MODIFIED:20240503T174918Z
UID:3265-1718182800-1718190000@css.wsu.edu
SUMMARY:Moses Lake Crop Tour
DESCRIPTION:
URL:https://css.wsu.edu/event/moses-lake-crop-tour-2/
LOCATION:47.114768\, -119.010154
END:VEVENT
BEGIN:VEVENT
DTSTART;TZID=America/Los_Angeles:20240612T130000
DTEND;TZID=America/Los_Angeles:20240612T170000
DTSTAMP:20260421T011153
CREATED:20240503T175036Z
LAST-MODIFIED:20240503T175036Z
UID:3268-1718197200-1718211600@css.wsu.edu
SUMMARY:WSU Weed Tour
DESCRIPTION:
URL:https://css.wsu.edu/event/wsu-weed-tour/
LOCATION:Palouse Conservation Field Station\, Pullman\, WA\, United States
ORGANIZER;CN="Drew%20Lyon":MAILTO:drew.lyon@wsu.edu
END:VEVENT
BEGIN:VEVENT
DTSTART;TZID=America/Los_Angeles:20240613T080000
DTEND;TZID=America/Los_Angeles:20240613T150000
DTSTAMP:20260421T011153
CREATED:20240503T175255Z
LAST-MODIFIED:20240503T175255Z
UID:3271-1718265600-1718290800@css.wsu.edu
SUMMARY:Lind Field Day
DESCRIPTION:
URL:https://css.wsu.edu/event/lind-field-day/
LOCATION:Lind Dryland Research Station\, 781 E. Experiment Station Rd Rd\, Lind\, WA\, 99341\, United States
ORGANIZER;CN="Surendra%20Singh":MAILTO:surendra.singh@wsu.edu
GEO:47.00076;-118.56658
X-APPLE-STRUCTURED-LOCATION;VALUE=URI;X-ADDRESS=Lind Dryland Research Station 781 E. Experiment Station Rd Rd Lind WA 99341 United States;X-APPLE-RADIUS=500;X-TITLE=781 E. Experiment Station Rd Rd:geo:-118.56658,47.00076
END:VEVENT
BEGIN:VEVENT
DTSTART;TZID=America/Los_Angeles:20240617T100000
DTEND;TZID=America/Los_Angeles:20240617T120000
DTSTAMP:20260421T011153
CREATED:20240503T180118Z
LAST-MODIFIED:20240503T180118Z
UID:3276-1718618400-1718625600@css.wsu.edu
SUMMARY:Mayview Crop Tour
DESCRIPTION:
URL:https://css.wsu.edu/event/mayview-crop-tour-2/
LOCATION:46.607572\, -117.409327
END:VEVENT
BEGIN:VEVENT
DTSTART;TZID=America/Los_Angeles:20240618T093000
DTEND;TZID=America/Los_Angeles:20240618T120000
DTSTAMP:20260421T011153
CREATED:20240503T180306Z
LAST-MODIFIED:20240503T180306Z
UID:3279-1718703000-1718712000@css.wsu.edu
SUMMARY:Wheat Academy Road Show
DESCRIPTION:
URL:https://css.wsu.edu/event/wheat-academy-road-show/
LOCATION:425 B Street\, 425 B Street\, Walla Walla\, WA\, United States
END:VEVENT
BEGIN:VEVENT
DTSTART;TZID=America/Los_Angeles:20240619T090000
DTEND;TZID=America/Los_Angeles:20240619T110000
DTSTAMP:20260421T011153
CREATED:20240503T180428Z
LAST-MODIFIED:20240503T180428Z
UID:3283-1718787600-1718794800@css.wsu.edu
SUMMARY:Reardan Crop Tour
DESCRIPTION:
URL:https://css.wsu.edu/event/reardan-crop-tour-2/
LOCATION:47.6945290 -117.9659950
ORGANIZER;CN="Aaron%20Esser":MAILTO:aarons@wsu.edu
END:VEVENT
BEGIN:VEVENT
DTSTART;TZID=America/Los_Angeles:20240620T070000
DTEND;TZID=America/Los_Angeles:20240620T090000
DTSTAMP:20260421T011153
CREATED:20240503T180546Z
LAST-MODIFIED:20240503T180546Z
UID:3286-1718866800-1718874000@css.wsu.edu
SUMMARY:Fairfield Crop Tour
DESCRIPTION:
URL:https://css.wsu.edu/event/fairfield-crop-tour-2/
LOCATION:Harvest Moon Restaurant\, Rockford\, WA\, United States
ORGANIZER;CN="Clark%20Neely":MAILTO:clark.neely@wsu.edu
END:VEVENT
BEGIN:VEVENT
DTSTART;TZID=America/Los_Angeles:20240620T083000
DTEND;TZID=America/Los_Angeles:20240620T133000
DTSTAMP:20260421T011153
CREATED:20240503T180756Z
LAST-MODIFIED:20240503T180756Z
UID:3289-1718872200-1718890200@css.wsu.edu
SUMMARY:WSU Wilke Farm Field Day
DESCRIPTION:
URL:https://css.wsu.edu/event/wsu-wilke-farm-field-day/
LOCATION:Wilke Research and Extension Farm\, 39440 St Rt 2 East\, Davenport\, WA\, United States
ORGANIZER;CN="Aaron%20Esser":MAILTO:aarons@wsu.edu
END:VEVENT
BEGIN:VEVENT
DTSTART;TZID=America/Los_Angeles:20240621T090000
DTEND;TZID=America/Los_Angeles:20240621T110000
DTSTAMP:20260421T011153
CREATED:20240503T180858Z
LAST-MODIFIED:20240503T180858Z
UID:3291-1718960400-1718967600@css.wsu.edu
SUMMARY:Eureka Crop Tour
DESCRIPTION:
URL:https://css.wsu.edu/event/eureka-crop-tour/
LOCATION:46.2841394\, -118.6537912
END:VEVENT
BEGIN:VEVENT
DTSTART;TZID=America/Los_Angeles:20240621T130000
DTEND;TZID=America/Los_Angeles:20240621T150000
DTSTAMP:20260421T011153
CREATED:20240503T181210Z
LAST-MODIFIED:20240503T181210Z
UID:3294-1718974800-1718982000@css.wsu.edu
SUMMARY:Walla Walla Crop Tour
DESCRIPTION:
URL:https://css.wsu.edu/event/walla-walla-crop-tour/
LOCATION:46.101129\, -118.242495
END:VEVENT
BEGIN:VEVENT
DTSTART;TZID=America/Los_Angeles:20240624T150000
DTEND;TZID=America/Los_Angeles:20240624T170000
DTSTAMP:20260421T011153
CREATED:20240503T181418Z
LAST-MODIFIED:20240503T181418Z
UID:3297-1719241200-1719248400@css.wsu.edu
SUMMARY:WSU Spillman Farm Field Day
DESCRIPTION:
URL:https://css.wsu.edu/event/wsu-spillman-farm-field-day/
LOCATION:46.696113\, -117.146961 (Sheaf Building)
ORGANIZER;CN="Clark%20Neely":MAILTO:clark.neely@wsu.edu
END:VEVENT
BEGIN:VEVENT
DTSTART;TZID=America/Los_Angeles:20240625T100000
DTEND;TZID=America/Los_Angeles:20240625T120000
DTSTAMP:20260421T011153
CREATED:20240503T181734Z
LAST-MODIFIED:20240503T181734Z
UID:3300-1719309600-1719316800@css.wsu.edu
SUMMARY:St. John Crop Tour
DESCRIPTION:
URL:https://css.wsu.edu/event/st-john-crop-tour-2/
LOCATION:47.081516\, -117.518972
ORGANIZER;CN="Clark%20Neely":MAILTO:clark.neely@wsu.edu
END:VEVENT
BEGIN:VEVENT
DTSTART;TZID=America/Los_Angeles:20240625T143000
DTEND;TZID=America/Los_Angeles:20240625T163000
DTSTAMP:20260421T011153
CREATED:20240503T182034Z
LAST-MODIFIED:20240503T182034Z
UID:3303-1719325800-1719333000@css.wsu.edu
SUMMARY:Farmington Crop Tour
DESCRIPTION:
URL:https://css.wsu.edu/event/farmington-crop-tour-2/
LOCATION:47.034089\, -117.056899
ORGANIZER;CN="Clark%20Neely":MAILTO:clark.neely@wsu.edu
END:VEVENT
BEGIN:VEVENT
DTSTART;TZID=America/Los_Angeles:20240627T090000
DTEND;TZID=America/Los_Angeles:20240627T130000
DTSTAMP:20260421T011153
CREATED:20240503T182132Z
LAST-MODIFIED:20240503T182132Z
UID:3306-1719478800-1719493200@css.wsu.edu
SUMMARY:WSU Potato Field Day
DESCRIPTION:
URL:https://css.wsu.edu/event/wsu-potato-field-day-2/
LOCATION:Othello Research Station\, 1471 W. Cox Road\, Othello\, WA\, United States
END:VEVENT
END:VCALENDAR