BEGIN:VCALENDAR
VERSION:2.0
PRODID:-//Department of Crop and Soil Sciences - ECPv5.9.0//NONSGML v1.0//EN
CALSCALE:GREGORIAN
METHOD:PUBLISH
X-WR-CALNAME:Department of Crop and Soil Sciences
X-ORIGINAL-URL:https://css.wsu.edu
X-WR-CALDESC:Events for Department of Crop and Soil Sciences
BEGIN:VTIMEZONE
TZID:America/Los_Angeles
BEGIN:DAYLIGHT
TZOFFSETFROM:-0800
TZOFFSETTO:-0700
TZNAME:PDT
DTSTART:20240310T100000
END:DAYLIGHT
BEGIN:STANDARD
TZOFFSETFROM:-0700
TZOFFSETTO:-0800
TZNAME:PST
DTSTART:20241103T090000
END:STANDARD
END:VTIMEZONE
BEGIN:VEVENT
DTSTART;TZID=America/Los_Angeles:20240301T090000
DTEND;TZID=America/Los_Angeles:20240301T100000
DTSTAMP:20260420T150254
CREATED:20240228T224453Z
LAST-MODIFIED:20240228T224453Z
UID:3122-1709283600-1709287200@css.wsu.edu
SUMMARY:Preliminary Examination - Madeline Desjardins
DESCRIPTION:
URL:https://css.wsu.edu/event/preliminary-examination-madeline-desjardins/
LOCATION:NWREC Art B 115\, 16650 State Route 536\, Mt. Vernon\, WA\, 98273\, United States
END:VEVENT
BEGIN:VEVENT
DTSTART;TZID=America/Los_Angeles:20240304T140000
DTEND;TZID=America/Los_Angeles:20240304T150000
DTSTAMP:20260420T150254
CREATED:20240109T184340Z
LAST-MODIFIED:20240109T184340Z
UID:2998-1709560800-1709564400@css.wsu.edu
SUMMARY:Seminar - Rex Bernardo
DESCRIPTION:Student Choice SpeakerRex Bernardo\, Professor Corn Breeding and Genetics\, Univ. of Minnesota“The People Part of Plant Breeding”
URL:https://css.wsu.edu/event/seminar-rex-bernardo/
LOCATION:FSHN 354
END:VEVENT
BEGIN:VEVENT
DTSTART;TZID=America/Los_Angeles:20240318T130000
DTEND;TZID=America/Los_Angeles:20240318T140000
DTSTAMP:20260420T150254
CREATED:20240305T185847Z
LAST-MODIFIED:20240305T185847Z
UID:3127-1710766800-1710770400@css.wsu.edu
SUMMARY:Final Examination - Robin Morgan
DESCRIPTION:“Are Plant Breeders Willing to Change Food Systems?”1:00 p.m.\, WSU Bread Lab and via Zoom
URL:https://css.wsu.edu/event/final-examination-robin-morgan/
LOCATION:WSU Breadlab\, Burlington\, WA\, United States
END:VEVENT
BEGIN:VEVENT
DTSTART;TZID=America/Los_Angeles:20240318T140000
DTEND;TZID=America/Los_Angeles:20240318T150000
DTSTAMP:20260420T150254
CREATED:20240109T184513Z
LAST-MODIFIED:20240109T184513Z
UID:3000-1710770400-1710774000@css.wsu.edu
SUMMARY:Seminar - Corteva Plant Breeding Symposium
DESCRIPTION:Corteva Plant Breeding Symposium“Challenges in food production across diverse environments”
URL:https://css.wsu.edu/event/seminar-corteva-plant-breeding-symposium/
LOCATION:FSHN 354
END:VEVENT
BEGIN:VEVENT
DTSTART;TZID=America/Los_Angeles:20240319T123000
DTEND;TZID=America/Los_Angeles:20240319T133000
DTSTAMP:20260420T150254
CREATED:20240311T214802Z
LAST-MODIFIED:20240311T214802Z
UID:3131-1710851400-1710855000@css.wsu.edu
SUMMARY:PhD Proposal Seminar
DESCRIPTION:“Farmer Perceptions and Alternative Management of Soil Compaction in Eastern Washington Cropping Systems”12:30 p.m.\, Clark Hall Room 331 and via Zoom
URL:https://css.wsu.edu/event/phd-proposal-seminar/
LOCATION:Clark Hall 331
END:VEVENT
BEGIN:VEVENT
DTSTART;TZID=America/Los_Angeles:20240325T140000
DTEND;TZID=America/Los_Angeles:20240325T150000
DTSTAMP:20260420T150254
CREATED:20240109T184847Z
LAST-MODIFIED:20240109T184847Z
UID:3002-1711375200-1711378800@css.wsu.edu
SUMMARY:Seminar - Doug Collins
DESCRIPTION:Doug Collins\, Extension Specialist and Soil Scientist WSU Center for Sustaining Agriculture and Natural Resources“Urban Underground: Agroecological Functions of Soils in the City”
URL:https://css.wsu.edu/event/seminar-doug-collins/
LOCATION:FSN 354
END:VEVENT
BEGIN:VEVENT
DTSTART;TZID=America/Los_Angeles:20240327T130000
DTEND;TZID=America/Los_Angeles:20240327T140000
DTSTAMP:20260420T150254
CREATED:20240321T141740Z
LAST-MODIFIED:20240321T141740Z
UID:3145-1711544400-1711548000@css.wsu.edu
SUMMARY:Final Examination - Andrew Herr
DESCRIPTION:“Applications of UAS Imagery in Wheat Breeding”1:00 p.m.\, BLS 402
URL:https://css.wsu.edu/event/final-examination-andrew-herr/
LOCATION:BLS 402
END:VEVENT
BEGIN:VEVENT
DTSTART;TZID=America/Los_Angeles:20240328T090000
DTEND;TZID=America/Los_Angeles:20240328T120000
DTSTAMP:20260420T150254
CREATED:20240321T161046Z
LAST-MODIFIED:20240321T161046Z
UID:3152-1711616400-1711627200@css.wsu.edu
SUMMARY:Wall of Appreciation Opening Event
DESCRIPTION:
URL:https://css.wsu.edu/event/wall-of-appreciation-opening-event/
END:VEVENT
BEGIN:VEVENT
DTSTART;TZID=America/Los_Angeles:20240329T100000
DTEND;TZID=America/Los_Angeles:20240329T110000
DTSTAMP:20260420T150254
CREATED:20240315T201027Z
LAST-MODIFIED:20240315T201027Z
UID:3136-1711706400-1711710000@css.wsu.edu
SUMMARY:Preliminary Examination - Christopher Benedict
DESCRIPTION:
URL:https://css.wsu.edu/event/preliminary-examination-christopher-benedict/
END:VEVENT
BEGIN:VEVENT
DTSTART;TZID=America/Los_Angeles:20240330T120000
DTEND;TZID=America/Los_Angeles:20240330T190000
DTSTAMP:20260420T150254
CREATED:20240321T173018Z
LAST-MODIFIED:20240321T173144Z
UID:3156-1711800000-1711825200@css.wsu.edu
SUMMARY:46th Annual Pah-Loots-Pu Powwow at Beasley Coliseum sponsored by WSU Native Programs
DESCRIPTION:
URL:https://css.wsu.edu/event/46th-annual-pah-loots-puu-powwow/
LOCATION:Beasley Coliseum\, 925 NE North Fairway Rd\, Pullman\, WA
END:VEVENT
END:VCALENDAR