BEGIN:VCALENDAR
VERSION:2.0
PRODID:-//Department of Crop and Soil Sciences - ECPv5.9.0//NONSGML v1.0//EN
CALSCALE:GREGORIAN
METHOD:PUBLISH
X-WR-CALNAME:Department of Crop and Soil Sciences
X-ORIGINAL-URL:https://css.wsu.edu
X-WR-CALDESC:Events for Department of Crop and Soil Sciences
BEGIN:VTIMEZONE
TZID:America/Los_Angeles
BEGIN:DAYLIGHT
TZOFFSETFROM:-0800
TZOFFSETTO:-0700
TZNAME:PDT
DTSTART:20230312T100000
END:DAYLIGHT
BEGIN:STANDARD
TZOFFSETFROM:-0700
TZOFFSETTO:-0800
TZNAME:PST
DTSTART:20231105T090000
END:STANDARD
END:VTIMEZONE
BEGIN:VEVENT
DTSTART;TZID=America/Los_Angeles:20231204T120000
DTEND;TZID=America/Los_Angeles:20231204T123000
DTSTAMP:20260423T120504
CREATED:20231127T175420Z
LAST-MODIFIED:20231127T175520Z
UID:2950-1701691200-1701693000@css.wsu.edu
SUMMARY:Proposal Defense Seminar - Madeline Desjardins
DESCRIPTION:“Evaluating the Short- and Long-Term Effects of Biosolids on Soil Functions\, Carbon Sequestration\, and System Diversification in Semi-Arid Dryland Cropping Systems”12:00-12:30 p.m.\, NWREC ArtB 115 and via Zoom
URL:https://css.wsu.edu/event/proposal-defense-seminar-madeline-desjardins/
LOCATION:NWREC Art B 115\, 16650 State Route 536\, Mt. Vernon\, WA\, 98273\, United States
END:VEVENT
BEGIN:VEVENT
DTSTART;TZID=America/Los_Angeles:20231204T140000
DTEND;TZID=America/Los_Angeles:20231204T150000
DTSTAMP:20260423T120504
CREATED:20230821T161107Z
LAST-MODIFIED:20230821T161107Z
UID:2672-1701698400-1701702000@css.wsu.edu
SUMMARY:Seminar - Viviana Medina Rodriguez
DESCRIPTION:‘Climate-Smart Caribbean: Enabling climate-smart decisions for agriculture in Puerto Rico and the USVI’
URL:https://css.wsu.edu/event/seminar-viviana-medina-rodriguez/
LOCATION:FSHN 354
END:VEVENT
BEGIN:VEVENT
DTSTART;TZID=America/Los_Angeles:20231208T130000
DTEND;TZID=America/Los_Angeles:20231208T140000
DTSTAMP:20260423T120504
CREATED:20231204T225027Z
LAST-MODIFIED:20231204T225050Z
UID:2962-1702040400-1702044000@css.wsu.edu
SUMMARY:Final Examination - Yi-Ting Chen
DESCRIPTION:“The Importance of Global Germplasm Distribution and Exchange for Plants and Recommendations for the Future”1:00 p.m. Clark Hall 331 and via Zoom
URL:https://css.wsu.edu/event/final-examination-yi-ting-chen/
LOCATION:Clark Hall 331
END:VEVENT
BEGIN:VEVENT
DTSTART;TZID=America/Los_Angeles:20231211T140000
DTEND;TZID=America/Los_Angeles:20231211T150000
DTSTAMP:20260423T120504
CREATED:20231114T162416Z
LAST-MODIFIED:20231207T173100Z
UID:2933-1702303200-1702306800@css.wsu.edu
SUMMARY:Seminar - Kulvinder Gill
DESCRIPTION:“Improving heat tolerance and climate resilience of wheat and other crops” 
URL:https://css.wsu.edu/event/seminar-kulvinder-gill/
LOCATION:FSHN 354
END:VEVENT
BEGIN:VEVENT
DTSTART;TZID=America/Los_Angeles:20231214T090000
DTEND;TZID=America/Los_Angeles:20231214T100000
DTSTAMP:20260423T120504
CREATED:20231206T230756Z
LAST-MODIFIED:20231206T230756Z
UID:2967-1702544400-1702548000@css.wsu.edu
SUMMARY:Preliminary Exam - Diana Salguero
DESCRIPTION:
URL:https://css.wsu.edu/event/preliminary-exam-diana-salguero/
LOCATION:Clark Hall 331
END:VEVENT
BEGIN:VEVENT
DTSTART;TZID=America/Los_Angeles:20231215T130000
DTEND;TZID=America/Los_Angeles:20231215T133000
DTSTAMP:20260423T120504
CREATED:20231204T171102Z
LAST-MODIFIED:20231204T171102Z
UID:2958-1702645200-1702647000@css.wsu.edu
SUMMARY:Proposal Defense Seminar - Evan Domsic
DESCRIPTION:“Unlocking Quinoa’s Budding Potential: Overcoming Barriers to its Adoption as a Commodity Crop in Western Washington and Beyond”1:00 p.m.\, NWREC ArtB 115 and via Zoom
URL:https://css.wsu.edu/event/proposal-defense-seminar-evan-domsic/
LOCATION:NWREC Art B 115\, 16650 State Route 536\, Mt. Vernon\, WA\, 98273\, United States
END:VEVENT
END:VCALENDAR