BEGIN:VCALENDAR
VERSION:2.0
PRODID:-//Department of Crop and Soil Sciences - ECPv5.9.0//NONSGML v1.0//EN
CALSCALE:GREGORIAN
METHOD:PUBLISH
X-WR-CALNAME:Department of Crop and Soil Sciences
X-ORIGINAL-URL:https://css.wsu.edu
X-WR-CALDESC:Events for Department of Crop and Soil Sciences
BEGIN:VTIMEZONE
TZID:America/Los_Angeles
BEGIN:DAYLIGHT
TZOFFSETFROM:-0800
TZOFFSETTO:-0700
TZNAME:PDT
DTSTART:20230312T100000
END:DAYLIGHT
BEGIN:STANDARD
TZOFFSETFROM:-0700
TZOFFSETTO:-0800
TZNAME:PST
DTSTART:20231105T090000
END:STANDARD
END:VTIMEZONE
BEGIN:VEVENT
DTSTART;TZID=America/Los_Angeles:20231106T140000
DTEND;TZID=America/Los_Angeles:20231106T150000
DTSTAMP:20260423T120504
CREATED:20230821T160814Z
LAST-MODIFIED:20230821T160814Z
UID:2665-1699279200-1699282800@css.wsu.edu
SUMMARY:Seminar - Emily Klarquist
DESCRIPTION:‘Biofortification Research Methods for Plant Breeding Programs’
URL:https://css.wsu.edu/event/seminar-emily-klarquist/
LOCATION:FSHN 354
END:VEVENT
BEGIN:VEVENT
DTSTART;TZID=America/Los_Angeles:20231107T130000
DTEND;TZID=America/Los_Angeles:20231107T140000
DTSTAMP:20260423T120504
CREATED:20231025T170450Z
LAST-MODIFIED:20231025T170450Z
UID:2903-1699362000-1699365600@css.wsu.edu
SUMMARY:Final Examination - Emily Klarquist
DESCRIPTION:“Biofortification Research Methods for Plant Breeding Programs”
URL:https://css.wsu.edu/event/final-examination-emily-klarquist/
LOCATION:Hulbert Hall 409
END:VEVENT
BEGIN:VEVENT
DTSTART;TZID=America/Los_Angeles:20231113T130000
DTEND;TZID=America/Los_Angeles:20231113T140000
DTSTAMP:20260423T120504
CREATED:20231106T150914Z
LAST-MODIFIED:20231106T150914Z
UID:2918-1699880400-1699884000@css.wsu.edu
SUMMARY:Final Examination - Tayler Reinman
DESCRIPTION:“Evaluating Characteristics of Proso Millet Cultivars and Potential for Adoption in the Inland Pacific Northwest”
URL:https://css.wsu.edu/event/final-examination-tayler-reinman/
LOCATION:Clark Hall 331
END:VEVENT
BEGIN:VEVENT
DTSTART;TZID=America/Los_Angeles:20231113T140000
DTEND;TZID=America/Los_Angeles:20231113T150000
DTSTAMP:20260423T120504
CREATED:20230821T160939Z
LAST-MODIFIED:20230821T160939Z
UID:2669-1699884000-1699887600@css.wsu.edu
SUMMARY:WSU Graduate Student Statewide Tour Report
DESCRIPTION:
URL:https://css.wsu.edu/event/wsu-graduate-student-statewide-tour-report/
LOCATION:FSHN 354
END:VEVENT
BEGIN:VEVENT
DTSTART;TZID=America/Los_Angeles:20231115T090000
DTEND;TZID=America/Los_Angeles:20231115T110000
DTSTAMP:20260423T120504
CREATED:20231102T193039Z
LAST-MODIFIED:20231102T193039Z
UID:2908-1700038800-1700046000@css.wsu.edu
SUMMARY:Winter Canola Shop Talk
DESCRIPTION:
URL:https://css.wsu.edu/event/winter-canola-shop-talk/
LOCATION:Almira Community Center\, 408 W. Main\, Almira\, WA\, 99103\, United States
ORGANIZER;CN="Jesse%20Ford":MAILTO:jesse.ford@wsu.edu
END:VEVENT
BEGIN:VEVENT
DTSTART;TZID=America/Los_Angeles:20231115T140000
DTEND;TZID=America/Los_Angeles:20231115T150000
DTSTAMP:20260423T120504
CREATED:20231103T215635Z
LAST-MODIFIED:20231103T215635Z
UID:2913-1700056800-1700060400@css.wsu.edu
SUMMARY:Final Examination - Zhou Tang
DESCRIPTION:“Speed Up the Precision Agriculture with Artificial Intelligence Empowered Phenomics”
URL:https://css.wsu.edu/event/final-examination-zhou-tang/
LOCATION:PSB 401
END:VEVENT
BEGIN:VEVENT
DTSTART;TZID=America/Los_Angeles:20231121T090000
DTEND;TZID=America/Los_Angeles:20231121T100000
DTSTAMP:20260423T120504
CREATED:20231115T154404Z
LAST-MODIFIED:20231115T154404Z
UID:2942-1700557200-1700560800@css.wsu.edu
SUMMARY:Final Examination - Justin Maltry
DESCRIPTION:“Reducing Soil Compaction with Summer Cover Crops”
URL:https://css.wsu.edu/event/final-examination-justin-maltry/
LOCATION:Puyallup REC Admin Bldg\, Chicona Room\, Puyallup\, WA
END:VEVENT
BEGIN:VEVENT
DTSTART;TZID=America/Los_Angeles:20231122T090000
DTEND;TZID=America/Los_Angeles:20231122T093000
DTSTAMP:20260423T120504
CREATED:20231114T163331Z
LAST-MODIFIED:20231114T163331Z
UID:2937-1700643600-1700645400@css.wsu.edu
SUMMARY:Proposal Defense Seminar - Diana Salguero
DESCRIPTION:“Soil compaction impact on soil functions in dryland production systems of the Pacific”
URL:https://css.wsu.edu/event/proposal-defense-seminar-diana-salguero/
LOCATION:Clark 393\, Pullman\, WA\, United States
END:VEVENT
BEGIN:VEVENT
DTSTART;TZID=America/Los_Angeles:20231127T140000
DTEND;TZID=America/Los_Angeles:20231127T150000
DTSTAMP:20260423T120504
CREATED:20230912T154810Z
LAST-MODIFIED:20231107T200225Z
UID:2725-1701093600-1701097200@css.wsu.edu
SUMMARY:Seminar - Xianran Li
DESCRIPTION:“Repurpose and revitalize long-term variety testing trial records to decode ingrained climate change”
URL:https://css.wsu.edu/event/seminar-chris-benedict/
LOCATION:FSHN 354
END:VEVENT
END:VCALENDAR