BEGIN:VCALENDAR
VERSION:2.0
PRODID:-//Department of Crop and Soil Sciences - ECPv5.9.0//NONSGML v1.0//EN
CALSCALE:GREGORIAN
METHOD:PUBLISH
X-WR-CALNAME:Department of Crop and Soil Sciences
X-ORIGINAL-URL:https://css.wsu.edu
X-WR-CALDESC:Events for Department of Crop and Soil Sciences
BEGIN:VTIMEZONE
TZID:America/Los_Angeles
BEGIN:DAYLIGHT
TZOFFSETFROM:-0800
TZOFFSETTO:-0700
TZNAME:PDT
DTSTART:20250309T100000
END:DAYLIGHT
BEGIN:STANDARD
TZOFFSETFROM:-0700
TZOFFSETTO:-0800
TZNAME:PST
DTSTART:20251102T090000
END:STANDARD
END:VTIMEZONE
BEGIN:VEVENT
DTSTART;TZID=America/Los_Angeles:20251118T140000
DTEND;TZID=America/Los_Angeles:20251118T150000
DTSTAMP:20260419T062025
CREATED:20251029T140629Z
LAST-MODIFIED:20251029T140629Z
UID:4122-1763474400-1763478000@css.wsu.edu
SUMMARY:PhD Research Proposal Seminar - Jonathan Schnore
DESCRIPTION:“Evaluation of the Potential of Eragrostis tef to produce Hybrid Crosses and Use in Seed Production in Central Washington”2:00 p.m.\, Clark 331 and via Zoom
URL:https://css.wsu.edu/event/phd-research-proposal-seminar-jonathan-schnore/
LOCATION:Clark Hall 331
END:VEVENT
END:VCALENDAR