BEGIN:VCALENDAR
VERSION:2.0
PRODID:-//Department of Crop and Soil Sciences - ECPv5.9.0//NONSGML v1.0//EN
CALSCALE:GREGORIAN
METHOD:PUBLISH
X-WR-CALNAME:Department of Crop and Soil Sciences
X-ORIGINAL-URL:https://css.wsu.edu
X-WR-CALDESC:Events for Department of Crop and Soil Sciences
BEGIN:VTIMEZONE
TZID:America/Los_Angeles
BEGIN:DAYLIGHT
TZOFFSETFROM:-0800
TZOFFSETTO:-0700
TZNAME:PDT
DTSTART:20250309T100000
END:DAYLIGHT
BEGIN:STANDARD
TZOFFSETFROM:-0700
TZOFFSETTO:-0800
TZNAME:PST
DTSTART:20251102T090000
END:STANDARD
END:VTIMEZONE
BEGIN:VEVENT
DTSTART;TZID=America/Los_Angeles:20250724T130000
DTEND;TZID=America/Los_Angeles:20250724T140000
DTSTAMP:20260421T011154
CREATED:20250714T182840Z
LAST-MODIFIED:20250714T182840Z
UID:3976-1753362000-1753365600@css.wsu.edu
SUMMARY:Final Examination - Katherine Smith
DESCRIPTION:“Assessing the Potential of Diversified Farming Systems for Improved Sustainability of the Palouse”1:00 p.m.\, Clark Hall 393 and via Zoom
URL:https://css.wsu.edu/event/final-examination-katherine-smith/
LOCATION:Clark 393\, Pullman\, WA\, United States
END:VEVENT
END:VCALENDAR