BEGIN:VCALENDAR
VERSION:2.0
PRODID:-//Department of Crop and Soil Sciences - ECPv5.9.0//NONSGML v1.0//EN
CALSCALE:GREGORIAN
METHOD:PUBLISH
X-WR-CALNAME:Department of Crop and Soil Sciences
X-ORIGINAL-URL:https://css.wsu.edu
X-WR-CALDESC:Events for Department of Crop and Soil Sciences
BEGIN:VTIMEZONE
TZID:America/Los_Angeles
BEGIN:DAYLIGHT
TZOFFSETFROM:-0800
TZOFFSETTO:-0700
TZNAME:PDT
DTSTART:20250309T100000
END:DAYLIGHT
BEGIN:STANDARD
TZOFFSETFROM:-0700
TZOFFSETTO:-0800
TZNAME:PST
DTSTART:20251102T090000
END:STANDARD
END:VTIMEZONE
BEGIN:VEVENT
DTSTART;TZID=America/Los_Angeles:20250324T140000
DTEND;TZID=America/Los_Angeles:20250324T150000
DTSTAMP:20260425T145532
CREATED:20250122T202120Z
LAST-MODIFIED:20250324T152216Z
UID:3700-1742824800-1742828400@css.wsu.edu
SUMMARY:Seminar - Haiying Tao
DESCRIPTION:“Mapping Spatial Variability of Yield\, Grain Protein Concentration\, and Nitrogen Uptake in Wheat Fields”
URL:https://css.wsu.edu/event/seminar-haiying-tao/
LOCATION:FSHN 354
END:VEVENT
END:VCALENDAR