BEGIN:VCALENDAR
VERSION:2.0
PRODID:-//Department of Crop and Soil Sciences - ECPv5.9.0//NONSGML v1.0//EN
CALSCALE:GREGORIAN
METHOD:PUBLISH
X-WR-CALNAME:Department of Crop and Soil Sciences
X-ORIGINAL-URL:https://css.wsu.edu
X-WR-CALDESC:Events for Department of Crop and Soil Sciences
BEGIN:VTIMEZONE
TZID:America/Los_Angeles
BEGIN:DAYLIGHT
TZOFFSETFROM:-0800
TZOFFSETTO:-0700
TZNAME:PDT
DTSTART:20240310T100000
END:DAYLIGHT
BEGIN:STANDARD
TZOFFSETFROM:-0700
TZOFFSETTO:-0800
TZNAME:PST
DTSTART:20241103T090000
END:STANDARD
END:VTIMEZONE
BEGIN:VEVENT
DTSTART;TZID=America/Los_Angeles:20240129T140000
DTEND;TZID=America/Los_Angeles:20240129T150000
DTSTAMP:20260424T163449
CREATED:20240109T183319Z
LAST-MODIFIED:20240126T213606Z
UID:2984-1706536800-1706540400@css.wsu.edu
SUMMARY:Seminar - Ryan Behnke
DESCRIPTION:Ryan Behnke\, USDA Headquarters Postdoc Bioinformatics \n“Utilizing deep neural networks trained with long-term variety testing trials and historical weather conditions to predict future wheat performance”
URL:https://css.wsu.edu/event/seminar-ryan-behnke/
LOCATION:FSHN 354
END:VEVENT
END:VCALENDAR