BEGIN:VCALENDAR
VERSION:2.0
PRODID:-//Department of Crop and Soil Sciences - ECPv5.9.0//NONSGML v1.0//EN
CALSCALE:GREGORIAN
METHOD:PUBLISH
X-WR-CALNAME:Department of Crop and Soil Sciences
X-ORIGINAL-URL:https://css.wsu.edu
X-WR-CALDESC:Events for Department of Crop and Soil Sciences
BEGIN:VTIMEZONE
TZID:America/Los_Angeles
BEGIN:DAYLIGHT
TZOFFSETFROM:-0800
TZOFFSETTO:-0700
TZNAME:PDT
DTSTART:20230312T100000
END:DAYLIGHT
BEGIN:STANDARD
TZOFFSETFROM:-0700
TZOFFSETTO:-0800
TZNAME:PST
DTSTART:20231105T090000
END:STANDARD
END:VTIMEZONE
BEGIN:VEVENT
DTSTART;TZID=America/Los_Angeles:20231023T140000
DTEND;TZID=America/Los_Angeles:20231023T150000
DTSTAMP:20260421T103144
CREATED:20230821T160616Z
LAST-MODIFIED:20230821T160616Z
UID:2661-1698069600-1698073200@css.wsu.edu
SUMMARY:Practice Presentations for Students and Post-docs attending the Tri-Societies Annual Meeting
DESCRIPTION:
URL:https://css.wsu.edu/event/practice-presentations-for-students-and-post-docs-attending-the-tri-societies-annual-meeting/
LOCATION:FSHN 354
END:VEVENT
END:VCALENDAR