BEGIN:VCALENDAR
VERSION:2.0
PRODID:-//Department of Crop and Soil Sciences - ECPv5.9.0//NONSGML v1.0//EN
CALSCALE:GREGORIAN
METHOD:PUBLISH
X-WR-CALNAME:Department of Crop and Soil Sciences
X-ORIGINAL-URL:https://css.wsu.edu
X-WR-CALDESC:Events for Department of Crop and Soil Sciences
BEGIN:VTIMEZONE
TZID:America/Los_Angeles
BEGIN:DAYLIGHT
TZOFFSETFROM:-0800
TZOFFSETTO:-0700
TZNAME:PDT
DTSTART:20230312T100000
END:DAYLIGHT
BEGIN:STANDARD
TZOFFSETFROM:-0700
TZOFFSETTO:-0800
TZNAME:PST
DTSTART:20231105T090000
END:STANDARD
END:VTIMEZONE
BEGIN:VEVENT
DTSTART;TZID=America/Los_Angeles:20230622T090000
DTEND;TZID=America/Los_Angeles:20230622T150000
DTSTAMP:20260425T073645
CREATED:20230404T205826Z
LAST-MODIFIED:20230404T205826Z
UID:2262-1687424400-1687446000@css.wsu.edu
SUMMARY:WSU Potato Field Day
DESCRIPTION:
URL:https://css.wsu.edu/event/wsu-potato-field-day/
LOCATION:Othello Research Station\, 1471 W. Cox Road\, Othello\, WA\, United States
END:VEVENT
END:VCALENDAR