BEGIN:VCALENDAR
VERSION:2.0
PRODID:-//Department of Crop and Soil Sciences - ECPv5.9.0//NONSGML v1.0//EN
CALSCALE:GREGORIAN
METHOD:PUBLISH
X-WR-CALNAME:Department of Crop and Soil Sciences
X-ORIGINAL-URL:https://css.wsu.edu
X-WR-CALDESC:Events for Department of Crop and Soil Sciences
BEGIN:VTIMEZONE
TZID:America/Los_Angeles
BEGIN:DAYLIGHT
TZOFFSETFROM:-0800
TZOFFSETTO:-0700
TZNAME:PDT
DTSTART:20250309T100000
END:DAYLIGHT
BEGIN:STANDARD
TZOFFSETFROM:-0700
TZOFFSETTO:-0800
TZNAME:PST
DTSTART:20251102T090000
END:STANDARD
END:VTIMEZONE
BEGIN:VEVENT
DTSTART;TZID=America/Los_Angeles:20250618T140000
DTEND;TZID=America/Los_Angeles:20250618T160000
DTSTAMP:20260421T231000
CREATED:20250521T185129Z
LAST-MODIFIED:20250521T185129Z
UID:3923-1750255200-1750262400@css.wsu.edu
SUMMARY:USDA Genebank Tour - June 18
DESCRIPTION:Please RSVP to Marilyn the day you would like to attend. marilyn.warburton@usda.gov \nYou’re invited to tour the USDA genebank in Pullman\, WA\, a national treasure where we grow\, conserve\, and share seeds with breeders and researchers across the US and around the world. \nThis genebank contains our national collections of chickpea\, lentil\, peas\, beans\, other legumes\, lettuce\, garlic\, rhubarb\, medicinal and ornamental plants\, safflower\, grasses\, alfalfa\, clover\, other forages\, their wild relatives\, and useful native plants. The genetic diversity conserved in these seeds is what has been used and will continue to be used to create crop varieties adapted to emerging markets and changing growing conditions. \nWe curate and distribute over 100\,000 lines and populations\, and we would be delighted to show you our regeneration fields\, drying and cleaning facilities and equipment\, with optional tours of our seed storage and distribution and greenhouse facilities. Unit staff and scientists will give brief explanations of the facilities and the plants in the fields\, as well as an indication of our impacts on U.S. and global agriculture and food security. \nAll demonstrations are live\, some are hands on and interactive\, and we have seeds\, plants\, and information to give away! Come see behind the seeds of the genebank and take away ideas on how you could participate as well! Photos are very welcome. \nWhen: June 18th\, 2025\, 2:00-4:00 pm field tour\, 4:00 – 5:00 seed storage and greenhouses \nWhere: WSU/ARS Pullman Plant Intro Station\, Terre View Dr. \nWhat to bring/wear: Camera\, hat\, sturdy closed-toed shoes\, water bottle\, cool clothing (but preferably long pants and long sleeves or use sunscreen). \nWho: All recipients of this email and all their friends\, but please RSVP an approximate number in your group. If you are a member of the media\, please let us know in advance who you are and that you are coming. \nOfficial Names and Acronyms: We are the USDA ARS Plant Germplasm Introduction and Testing Research Unit (PGITRU) working at the Western Regional Plant Introduction Station (WRPIS) located at Washington State University (WSU) in Pullman\, WA. #PullmanPlantIntro #SeedGuardians
URL:https://css.wsu.edu/event/usda-genebank-tour-june-18/
LOCATION:WSU/ARS Pullman Plant Intro Station\, 4900 Terre View Dr.\, Pullman\, WA\, United States
ORGANIZER;CN="Marilyn%20Warburton":MAILTO:marilyn.warburton@usda.gov
END:VEVENT
END:VCALENDAR