BEGIN:VCALENDAR
VERSION:2.0
PRODID:-//Department of Crop and Soil Sciences - ECPv5.9.0//NONSGML v1.0//EN
CALSCALE:GREGORIAN
METHOD:PUBLISH
X-WR-CALNAME:Department of Crop and Soil Sciences
X-ORIGINAL-URL:https://css.wsu.edu
X-WR-CALDESC:Events for Department of Crop and Soil Sciences
BEGIN:VTIMEZONE
TZID:America/Los_Angeles
BEGIN:DAYLIGHT
TZOFFSETFROM:-0800
TZOFFSETTO:-0700
TZNAME:PDT
DTSTART:20240310T100000
END:DAYLIGHT
BEGIN:STANDARD
TZOFFSETFROM:-0700
TZOFFSETTO:-0800
TZNAME:PST
DTSTART:20241103T090000
END:STANDARD
END:VTIMEZONE
BEGIN:VEVENT
DTSTART;TZID=America/Los_Angeles:20240109T080000
DTEND;TZID=America/Los_Angeles:20240109T170000
DTSTAMP:20260420T202739
CREATED:20240109T184117Z
LAST-MODIFIED:20240109T184117Z
UID:2996-1704787200-1704819600@css.wsu.edu
SUMMARY:Seminar - Steven Norberg
DESCRIPTION:Steven Norberg\, Regional Forage Specialist – WSU Extension“Economics and Yield of P and K applications in Alfalfa”
URL:https://css.wsu.edu/event/seminar-steven-norberg/
END:VEVENT
END:VCALENDAR