BEGIN:VCALENDAR
VERSION:2.0
PRODID:-//Department of Crop and Soil Sciences - ECPv5.9.0//NONSGML v1.0//EN
CALSCALE:GREGORIAN
METHOD:PUBLISH
X-WR-CALNAME:Department of Crop and Soil Sciences
X-ORIGINAL-URL:https://css.wsu.edu
X-WR-CALDESC:Events for Department of Crop and Soil Sciences
BEGIN:VTIMEZONE
TZID:America/Los_Angeles
BEGIN:DAYLIGHT
TZOFFSETFROM:-0800
TZOFFSETTO:-0700
TZNAME:PDT
DTSTART:20230312T100000
END:DAYLIGHT
BEGIN:STANDARD
TZOFFSETFROM:-0700
TZOFFSETTO:-0800
TZNAME:PST
DTSTART:20231105T090000
END:STANDARD
END:VTIMEZONE
BEGIN:VEVENT
DTSTART;TZID=America/Los_Angeles:20231121T090000
DTEND;TZID=America/Los_Angeles:20231121T100000
DTSTAMP:20260422T095021
CREATED:20231115T154404Z
LAST-MODIFIED:20231115T154404Z
UID:2942-1700557200-1700560800@css.wsu.edu
SUMMARY:Final Examination - Justin Maltry
DESCRIPTION:“Reducing Soil Compaction with Summer Cover Crops”
URL:https://css.wsu.edu/event/final-examination-justin-maltry/
LOCATION:Puyallup REC Admin Bldg\, Chicona Room\, Puyallup\, WA
END:VEVENT
END:VCALENDAR