BEGIN:VCALENDAR
VERSION:2.0
PRODID:-//Department of Crop and Soil Sciences - ECPv5.9.0//NONSGML v1.0//EN
CALSCALE:GREGORIAN
METHOD:PUBLISH
X-WR-CALNAME:Department of Crop and Soil Sciences
X-ORIGINAL-URL:https://css.wsu.edu
X-WR-CALDESC:Events for Department of Crop and Soil Sciences
BEGIN:VTIMEZONE
TZID:America/Los_Angeles
BEGIN:DAYLIGHT
TZOFFSETFROM:-0800
TZOFFSETTO:-0700
TZNAME:PDT
DTSTART:20240310T100000
END:DAYLIGHT
BEGIN:STANDARD
TZOFFSETFROM:-0700
TZOFFSETTO:-0800
TZNAME:PST
DTSTART:20241103T090000
END:STANDARD
END:VTIMEZONE
BEGIN:VEVENT
DTSTART;TZID=America/Los_Angeles:20240327T130000
DTEND;TZID=America/Los_Angeles:20240327T140000
DTSTAMP:20260423T063951
CREATED:20240321T141740Z
LAST-MODIFIED:20240321T141740Z
UID:3145-1711544400-1711548000@css.wsu.edu
SUMMARY:Final Examination - Andrew Herr
DESCRIPTION:“Applications of UAS Imagery in Wheat Breeding”1:00 p.m.\, BLS 402
URL:https://css.wsu.edu/event/final-examination-andrew-herr/
LOCATION:BLS 402
END:VEVENT
END:VCALENDAR