BEGIN:VCALENDAR
VERSION:2.0
PRODID:-//Department of Crop and Soil Sciences - ECPv5.9.0//NONSGML v1.0//EN
CALSCALE:GREGORIAN
METHOD:PUBLISH
X-WR-CALNAME:Department of Crop and Soil Sciences
X-ORIGINAL-URL:https://css.wsu.edu
X-WR-CALDESC:Events for Department of Crop and Soil Sciences
BEGIN:VTIMEZONE
TZID:America/Los_Angeles
BEGIN:DAYLIGHT
TZOFFSETFROM:-0800
TZOFFSETTO:-0700
TZNAME:PDT
DTSTART:20240310T100000
END:DAYLIGHT
BEGIN:STANDARD
TZOFFSETFROM:-0700
TZOFFSETTO:-0800
TZNAME:PST
DTSTART:20241103T090000
END:STANDARD
END:VTIMEZONE
BEGIN:VEVENT
DTSTART;TZID=America/Los_Angeles:20240620T070000
DTEND;TZID=America/Los_Angeles:20240620T090000
DTSTAMP:20260422T211755
CREATED:20240503T180546Z
LAST-MODIFIED:20240503T180546Z
UID:3286-1718866800-1718874000@css.wsu.edu
SUMMARY:Fairfield Crop Tour
DESCRIPTION:
URL:https://css.wsu.edu/event/fairfield-crop-tour-2/
LOCATION:Harvest Moon Restaurant\, Rockford\, WA\, United States
ORGANIZER;CN="Clark%20Neely":MAILTO:clark.neely@wsu.edu
END:VEVENT
END:VCALENDAR