BEGIN:VCALENDAR
VERSION:2.0
PRODID:-//Department of Crop and Soil Sciences - ECPv5.9.0//NONSGML v1.0//EN
CALSCALE:GREGORIAN
METHOD:PUBLISH
X-WR-CALNAME:Department of Crop and Soil Sciences
X-ORIGINAL-URL:https://css.wsu.edu
X-WR-CALDESC:Events for Department of Crop and Soil Sciences
BEGIN:VTIMEZONE
TZID:America/Los_Angeles
BEGIN:DAYLIGHT
TZOFFSETFROM:-0800
TZOFFSETTO:-0700
TZNAME:PDT
DTSTART:20250309T100000
END:DAYLIGHT
BEGIN:STANDARD
TZOFFSETFROM:-0700
TZOFFSETTO:-0800
TZNAME:PST
DTSTART:20251102T090000
END:STANDARD
END:VTIMEZONE
BEGIN:VEVENT
DTSTART;TZID=America/Los_Angeles:20250929T140000
DTEND;TZID=America/Los_Angeles:20250929T150000
DTSTAMP:20260422T140537
CREATED:20250807T174322Z
LAST-MODIFIED:20250807T174322Z
UID:4008-1759154400-1759158000@css.wsu.edu
SUMMARY:Campbell Lecture - Jay Ham
DESCRIPTION:Campbell LectureJay Ham\, Professor of Micrometeorology and Sensor Technology\, Dept. of Soil and Crop Sciences\, Colorado State University“Demystifying AI in Soil and Crop Sciences: A Hands-On Framework for Learning and Teaching AI\, IoT\, and Sensor Technology for Irrigation Management and Beyond”2:10-3:10 p.m.\, VBRB 305Zoom Meeting ID: 932 4332 7055; Passcode: 673409
URL:https://css.wsu.edu/event/campbell-lecture-jay-ham/
LOCATION:FSHN 354
END:VEVENT
END:VCALENDAR