BEGIN:VCALENDAR
VERSION:2.0
PRODID:-//Department of Crop and Soil Sciences - ECPv5.9.0//NONSGML v1.0//EN
CALSCALE:GREGORIAN
METHOD:PUBLISH
X-WR-CALNAME:Department of Crop and Soil Sciences
X-ORIGINAL-URL:https://css.wsu.edu
X-WR-CALDESC:Events for Department of Crop and Soil Sciences
BEGIN:VTIMEZONE
TZID:America/Los_Angeles
BEGIN:DAYLIGHT
TZOFFSETFROM:-0800
TZOFFSETTO:-0700
TZNAME:PDT
DTSTART:20230312T100000
END:DAYLIGHT
BEGIN:STANDARD
TZOFFSETFROM:-0700
TZOFFSETTO:-0800
TZNAME:PST
DTSTART:20231105T090000
END:STANDARD
END:VTIMEZONE
BEGIN:VEVENT
DTSTART;TZID=America/Los_Angeles:20230629T130000
DTEND;TZID=America/Los_Angeles:20230629T150000
DTSTAMP:20260419T220151
CREATED:20230404T212721Z
LAST-MODIFIED:20230404T212721Z
UID:2287-1688043600-1688050800@css.wsu.edu
SUMMARY:Bickleton Crop Tour
DESCRIPTION:Starting location for this tour is 46.024942\, -120.283326.
URL:https://css.wsu.edu/event/bickleton-crop-tour/
LOCATION:46.024942\, -120.283326
END:VEVENT
END:VCALENDAR